BEGIN:VCALENDAR
VERSION:2.0
PRODID:-//ChamberMaster//Event Calendar 2.0//EN
METHOD:PUBLISH
X-PUBLISHED-TTL:P1H
REFRESH-INTERVAL:P1H
CALSCALE:GREGORIAN
BEGIN:VTIMEZONE
TZID:America/New_York
BEGIN:DAYLIGHT
RRULE:FREQ=YEARLY;BYMONTH=3;BYDAY=2SU
DTSTART:20070101T000000
TZOFFSETFROM:-0500
TZOFFSETTO:-0400
TZNAME:Eastern Daylight Time
END:DAYLIGHT
BEGIN:STANDARD
RRULE:FREQ=YEARLY;BYMONTH=11;BYDAY=1SU
DTSTART:20070101T000000
TZOFFSETFROM:-0400
TZOFFSETTO:-0500
TZNAME:Eastern Standard Time
END:STANDARD
END:VTIMEZONE
BEGIN:VEVENT
DTSTART;TZID=America/New_York:20260430T001500
DTEND;TZID=America/New_York:20260430T131500
X-MICROSOFT-CDO-ALLDAYEVENT:FALSE
SUMMARY:GGAR Orientation - April 30th
DESCRIPTION:Join us for GGAR's New Member Introduction   an essential orientation designed to set you up for success as a REALTOR  in the Upstate. In this class\, you'll get a comprehensive introduction to your membership\, including your benefits at the local\, state\, and national levels\, how the three-way agreement works\, and what it means to be part of the REALTOR  family.Topics covered include:Member benefits and how to make the most of your GGAR membershipSC license renewal requirements and CE obligationsNAR requirements\, including Code of Ethics and Fair Housing Advocacy\, RPAC\, and how GGAR fights for your business and your community
X-ALT-DESC;FMTTYPE=text/html:<!DOCTYPE html><html><head><title></title></head><body aria-disabled="false"><div style='border: 0px\; font-style: normal\; font-variant-ligatures: normal\; font-variant-caps: normal\; font-variant-numeric: inherit\; font-variant-east-asian: inherit\; font-variant-alternates: inherit\; font-variant-position: inherit\; font-variant-emoji: inherit\; font-weight: 400\; font-stretch: inherit\; font-size: 15px\; line-height: inherit\; font-family: "Segoe UI"\, "Segoe UI Web (West European)"\, -apple-system\, BlinkMacSystemFont\, Roboto\, "Helvetica Neue"\, sans-serif\; font-optical-sizing: inherit\; font-size-adjust: inherit\; font-kerning: inherit\; font-feature-settings: inherit\; font-variation-settings: inherit\; font-language-override: inherit\; margin: 12pt 0px\; padding: 0px\; vertical-align: baseline\; color: rgb(36\, 36\, 36)\; letter-spacing: normal\; orphans: 2\; text-align: start\; text-indent: 0px\; text-transform: none\; widows: 2\; word-spacing: 0px\; -webkit-text-stroke-width: 0px\; white-space: normal\; background-color: rgb(255\, 255\, 255)\; text-decoration-thickness: initial\; text-decoration-style: initial\; text-decoration-color: initial\;'><p style="margin: 0in\; font-size: 12pt\; font-family: Aptos\, sans-serif\;"><span data-olk-copy-source="MessageBody" style="border: 0px\; font: inherit\; margin: 0px\; padding: 0px\; vertical-align: baseline\; color: black\;">Join us for GGAR&#39\;s New Member Introduction &mdash\; an essential orientation designed to set you up for success as a REALTOR&reg\; in the Upstate. In this class\, you&#39\;ll get a comprehensive introduction to your membership\, including your benefits at the local\, state\, and national levels\, how the three-way agreement works\, and what it means to be part of the REALTOR&reg\; family.</span></p></div><div style='border: 0px\; font-style: normal\; font-variant-ligatures: normal\; font-variant-caps: normal\; font-variant-numeric: inherit\; font-variant-east-asian: inherit\; font-variant-alternates: inherit\; font-variant-position: inherit\; font-variant-emoji: inherit\; font-weight: 400\; font-stretch: inherit\; font-size: 15px\; line-height: inherit\; font-family: "Segoe UI"\, "Segoe UI Web (West European)"\, -apple-system\, BlinkMacSystemFont\, Roboto\, "Helvetica Neue"\, sans-serif\; font-optical-sizing: inherit\; font-size-adjust: inherit\; font-kerning: inherit\; font-feature-settings: inherit\; font-variation-settings: inherit\; font-language-override: inherit\; margin: 12pt 0px\; padding: 0px\; vertical-align: baseline\; color: rgb(36\, 36\, 36)\; letter-spacing: normal\; orphans: 2\; text-align: start\; text-indent: 0px\; text-transform: none\; widows: 2\; word-spacing: 0px\; -webkit-text-stroke-width: 0px\; white-space: normal\; background-color: rgb(255\, 255\, 255)\; text-decoration-thickness: initial\; text-decoration-style: initial\; text-decoration-color: initial\;'><p style="margin: 0in\; font-size: 12pt\; font-family: Aptos\, sans-serif\;"><span style="border: 0px\; font: inherit\; margin: 0px\; padding: 0px\; vertical-align: baseline\; color: black\;">Topics covered include:</span></p></div><ul fr-original-style='margin-bottom: 0in\; color: rgb(36\, 36\, 36)\; font-family: "Segoe UI"\, "Segoe UI Web (West European)"\, -apple-system\, BlinkMacSystemFont\, Roboto\, "Helvetica Neue"\, sans-serif\; font-size: 15px\; font-style: normal\; font-variant-ligatures: normal\; font-variant-caps: normal\; font-weight: 400\; letter-spacing: normal\; orphans: 2\; text-align: start\; text-indent: 0px\; text-transform: none\; widows: 2\; word-spacing: 0px\; -webkit-text-stroke-width: 0px\; white-space: normal\; background-color: rgb(255\, 255\, 255)\; text-decoration-thickness: initial\; text-decoration-style: initial\; text-decoration-color: initial\;' style='margin-bottom: 0in\; color: rgb(36\, 36\, 36)\; font-family: "Segoe UI"\, "Segoe UI Web (West European)"\, -apple-system\, BlinkMacSystemFont\, Roboto\, "Helvetica Neue"\, sans-serif\; font-size: 15px\; font-style: normal\; font-variant-ligatures: normal\; font-variant-caps: normal\; font-weight: 400\; letter-spacing: normal\; orphans: 2\; text-align: start\; text-indent: 0px\; text-transform: none\; widows: 2\; word-spacing: 0px\; -webkit-text-stroke-width: 0px\; white-space: normal\; background-color: rgb(255\, 255\, 255)\; text-decoration-thickness: initial\; text-decoration-style: initial\; text-decoration-color: initial\; list-style-position: inside\;' type="disc"><li style="margin: 0in\; font-size: 12pt\; font-family: Aptos\, sans-serif\; color: black\;">Member benefits and how to make the most of your GGAR membership</li><li style="margin: 0in\; font-size: 12pt\; font-family: Aptos\, sans-serif\; color: black\;">SC license renewal requirements and CE obligations</li><li style="margin: 0in\; font-size: 12pt\; font-family: Aptos\, sans-serif\; color: black\;">NAR requirements\, including Code of Ethics and Fair Housing&nbsp\;</li><li style="margin: 0in\; font-size: 12pt\; font-family: Aptos\, sans-serif\; color: black\;">Advocacy\, RPAC\, and how GGAR fights for your business and your community</li></ul></body></html>
LOCATION:50 Airpark Court Greenville SC 29607
UID:e.3170.1442249
SEQUENCE:3
DTSTAMP:20260423T122336Z
URL:https://members.ggar.com/association-events/Details/ggar-orientation-april-30th-1708133?sourceTypeId=Hub
END:VEVENT
END:VCALENDAR
