BEGIN:VCALENDAR
VERSION:2.0
PRODID:-//ChamberMaster//Event Calendar 2.0//EN
METHOD:PUBLISH
X-PUBLISHED-TTL:P1H
REFRESH-INTERVAL:P1H
CALSCALE:GREGORIAN
BEGIN:VTIMEZONE
TZID:America/New_York
BEGIN:DAYLIGHT
RRULE:FREQ=YEARLY;BYMONTH=3;BYDAY=2SU
DTSTART:20070101T000000
TZOFFSETFROM:-0500
TZOFFSETTO:-0400
TZNAME:Eastern Daylight Time
END:DAYLIGHT
BEGIN:STANDARD
RRULE:FREQ=YEARLY;BYMONTH=11;BYDAY=1SU
DTSTART:20070101T000000
TZOFFSETFROM:-0400
TZOFFSETTO:-0500
TZNAME:Eastern Standard Time
END:STANDARD
END:VTIMEZONE
BEGIN:VEVENT
DTSTART;TZID=America/New_York:20260514T110000
DTEND;TZID=America/New_York:20260514T130000
X-MICROSOFT-CDO-ALLDAYEVENT:FALSE
SUMMARY:Lunch & Learn - Non-QM Lending 101: What Every REALTOR® Needs to Know
DESCRIPTION:Can mortgage product knowledge help a realtor sell more homes? Yes! Join us to lunch & learn:   Investment property and second home loans   including DSCR loans   Self-employed borrower loans   several options for borrowers who show little or no verifiable income   High Net-worth Borrowers   qualify on cash flow\, assets or just need to show additional income   Doctor Loans   100% Financing for doctors to $2M   Guaranteed Buy Programs   Today's HELOC Programs   Flexible equity access and fast approvals   Plus much more .bring your questions!A little product knowledge can save loans destine for denial and help sell more homes this year.Presented by:Tom Hollerbach & Merrill Fowler with SWBC
X-ALT-DESC;FMTTYPE=text/html:<!DOCTYPE html><html><head><title></title></head><body aria-disabled="false"><p><strong fr-original-style="" style="font-weight: 700\;">Can mortgage product knowledge help a realtor sell more homes? Yes!&nbsp\;</strong></p><p><strong fr-original-style="" style="font-weight: 700\;">Join us to lunch &amp\; learn: </strong></p><p>&bull\; Investment property and second home loans &ndash\; including DSCR loans&nbsp\;</p><p>&bull\; Self-employed borrower loans &ndash\; several options for borrowers who show little or no verifiable income&nbsp\;</p><p>&bull\; High Net-worth Borrowers &ndash\; qualify on cash flow\, assets or just need to show additional income&nbsp\;</p><p>&bull\; Doctor Loans &ndash\; 100% Financing for doctors to $2M&nbsp\;</p><p>&bull\; Guaranteed Buy Programs &bull\; Today&rsquo\;s HELOC Programs &ndash\; Flexible equity access and fast approvals&nbsp\;</p><p>&bull\; Plus much more&hellip\;.bring your questions!</p><p>A little product knowledge can save loans destine for denial and help sell more homes this year.</p><p>Presented by:</p><p>Tom Hollerbach &amp\; Merrill Fowler with SWBC</p><p><br></p></body></html>
LOCATION:50 Airpark Court Greenville 29607
UID:e.3170.1440882
SEQUENCE:3
DTSTAMP:20260422T003327Z
URL:https://members.ggar.com/association-events/Details/lunch-learn-non-qm-lending-101-what-every-realtor-needs-to-know-1706084?sourceTypeId=Hub
END:VEVENT
END:VCALENDAR
