BEGIN:VCALENDAR
VERSION:2.0
PRODID:-//ChamberMaster//Event Calendar 2.0//EN
METHOD:PUBLISH
X-PUBLISHED-TTL:P1H
REFRESH-INTERVAL:P1H
CALSCALE:GREGORIAN
BEGIN:VTIMEZONE
TZID:America/New_York
BEGIN:DAYLIGHT
RRULE:FREQ=YEARLY;BYMONTH=3;BYDAY=2SU
DTSTART:20070101T000000
TZOFFSETFROM:-0500
TZOFFSETTO:-0400
TZNAME:Eastern Daylight Time
END:DAYLIGHT
BEGIN:STANDARD
RRULE:FREQ=YEARLY;BYMONTH=11;BYDAY=1SU
DTSTART:20070101T000000
TZOFFSETFROM:-0400
TZOFFSETTO:-0500
TZNAME:Eastern Standard Time
END:STANDARD
END:VTIMEZONE
BEGIN:VEVENT
DTSTART;TZID=America/New_York:20260522T100000
DTEND;TZID=America/New_York:20260522T120000
X-MICROSOFT-CDO-ALLDAYEVENT:FALSE
SUMMARY:Free Friday - Wire Fraud - Dangers and Strategies
DESCRIPTION:Learn about all the aspects of Wire Fraud and how they affect Real Estate transactions\, including seller wire fraud and mortgage wire fraud.\nBreakfast will be provided
X-ALT-DESC;FMTTYPE=text/html:Learn about all the aspects of Wire Fraud and how they affect Real Estate transactions\, including seller wire fraud and mortgage wire fraud.\nBreakfast will be provided
LOCATION:50 Airpark Court Greenville SC 29607
UID:e.3170.1417209
SEQUENCE:3
DTSTAMP:20260422T003325Z
URL:https://members.ggar.com/association-events/Details/free-friday-wire-fraud-dangers-and-strategies-1675207?sourceTypeId=Hub
END:VEVENT
END:VCALENDAR
