BEGIN:VCALENDAR
VERSION:2.0
PRODID:-//ChamberMaster//Event Calendar 2.0//EN
METHOD:PUBLISH
X-PUBLISHED-TTL:P1H
REFRESH-INTERVAL:P1H
CALSCALE:GREGORIAN
BEGIN:VTIMEZONE
TZID:America/New_York
BEGIN:DAYLIGHT
RRULE:FREQ=YEARLY;BYMONTH=3;BYDAY=2SU
DTSTART:20070101T000000
TZOFFSETFROM:-0500
TZOFFSETTO:-0400
TZNAME:Eastern Daylight Time
END:DAYLIGHT
BEGIN:STANDARD
RRULE:FREQ=YEARLY;BYMONTH=11;BYDAY=1SU
DTSTART:20070101T000000
TZOFFSETFROM:-0400
TZOFFSETTO:-0500
TZNAME:Eastern Standard Time
END:STANDARD
END:VTIMEZONE
BEGIN:VEVENT
DTSTART;TZID=America/New_York:20260520T120000
DTEND;TZID=America/New_York:20260520T130000
X-MICROSOFT-CDO-ALLDAYEVENT:FALSE
SUMMARY:Commercial Steering Committee
DESCRIPTION:
X-ALT-DESC;FMTTYPE=text/html:
LOCATION:50 Airpark Court Greenville SC 29607
UID:e.3170.1367390
SEQUENCE:3
DTSTAMP:20260421T224049Z
URL:https://members.ggar.com/association-events/Details/commercial-steering-committee-1613434?sourceTypeId=Hub
END:VEVENT
END:VCALENDAR
