BEGIN:VCALENDAR
VERSION:2.0
PRODID:-//ChamberMaster//Event Calendar 2.0//EN
METHOD:PUBLISH
X-PUBLISHED-TTL:P1H
REFRESH-INTERVAL:P1H
CALSCALE:GREGORIAN
BEGIN:VTIMEZONE
TZID:America/New_York
BEGIN:DAYLIGHT
RRULE:FREQ=YEARLY;BYMONTH=3;BYDAY=2SU
DTSTART:20070101T000000
TZOFFSETFROM:-0500
TZOFFSETTO:-0400
TZNAME:Eastern Daylight Time
END:DAYLIGHT
BEGIN:STANDARD
RRULE:FREQ=YEARLY;BYMONTH=11;BYDAY=1SU
DTSTART:20070101T000000
TZOFFSETFROM:-0400
TZOFFSETTO:-0500
TZNAME:Eastern Standard Time
END:STANDARD
END:VTIMEZONE
BEGIN:VEVENT
DTSTART;TZID=America/New_York:20260616T130000
DTEND;TZID=America/New_York:20260616T150000
X-MICROSOFT-CDO-ALLDAYEVENT:FALSE
SUMMARY:CE - Elective - What if an Owner Died? (Probate Class) CEE 3885
DESCRIPTION:Ever wonder what to do if an owner died or you are dealing with an estate? Do you know how probate works\, especially in real estate deals? This class can help you be prepared to best help your clients or even in your own life with family members. This 2-hour CE class is a class about probate and what you should know if you have a house where the owner died.Instructor: Carol SimpsonFEES:  Total tuition is $25.00 for GGAR Members and $35.00 for all Non-Members which includes all course materials and is payable before the class date. Walk-in registrations on day of course will be assessed an additional $10.00 administrative fee. Above fees do not apply to designation/certification courses or specialty courses
X-ALT-DESC;FMTTYPE=text/html:<!DOCTYPE html><html><head><title></title></head><body aria-disabled="false"><p>Ever wonder what to do if an owner died or you are dealing with an estate? Do you know how probate works\, especially in real estate deals? This class can help you be prepared to best help your clients or even in your own life with family members. This 2-hour CE class is a class about probate and what you should know if you have a house where the owner died.</p><p>Instructor: Carol Simpson</p><p><strong fr-original-style='box-sizing: border-box\; font-weight: bold\; font-family: "Open Sans"\; font-size: 14px\; font-style: normal\; font-variant-ligatures: normal\; font-variant-caps: normal\; letter-spacing: 0.5px\; orphans: 2\; text-align: start\; text-indent: 0px\; text-transform: none\; widows: 2\; word-spacing: 0px\; -webkit-text-stroke-width: 0px\; white-space: normal\; text-decoration-thickness: initial\; text-decoration-style: initial\; text-decoration-color: initial\; color: rgb(118\, 118\, 118)\; background-color: rgb(255\, 255\, 255)\;' style='box-sizing: border-box\; font-weight: bold\; font-family: "Open Sans"\; font-size: 14px\; font-style: normal\; font-variant-ligatures: normal\; font-variant-caps: normal\; letter-spacing: 0.5px\; orphans: 2\; text-align: start\; text-indent: 0px\; text-transform: none\; widows: 2\; word-spacing: 0px\; -webkit-text-stroke-width: 0px\; white-space: normal\; text-decoration-thickness: initial\; text-decoration-style: initial\; text-decoration-color: initial\; color: rgb(118\, 118\, 118)\; background-color: rgb(255\, 255\, 255)\;'>FEES:</strong><span style='color: rgb(25\, 26\, 32)\; font-family: "Open Sans"\; font-size: 14px\; font-style: normal\; font-variant-ligatures: normal\; font-variant-caps: normal\; font-weight: 400\; letter-spacing: 0.5px\; orphans: 2\; text-align: start\; text-indent: 0px\; text-transform: none\; widows: 2\; word-spacing: 0px\; -webkit-text-stroke-width: 0px\; white-space: normal\; background-color: rgb(255\, 255\, 255)\; text-decoration-thickness: initial\; text-decoration-style: initial\; text-decoration-color: initial\; display: inline !important\; float: none\;'>&nbsp\; Total tuition is $25.00 for GGAR Members and $35.00 for all Non-Members which includes all course materials and is payable before the class date. Walk-in registrations on day of course will be assessed an additional $10.00 administrative fee. Above fees do not apply to designation/certification courses or specialty courses</span></p></body></html>
LOCATION:50 Airpark Court Greenville SC 29607
UID:e.3170.1419359
SEQUENCE:3
DTSTAMP:20260422T003331Z
URL:https://members.ggar.com/association-events/Details/ce-elective-what-if-an-owner-died-probate-class-cee-3885-1677734?sourceTypeId=Hub
END:VEVENT
END:VCALENDAR
