BEGIN:VCALENDAR
VERSION:2.0
PRODID:-//ChamberMaster//Event Calendar 2.0//EN
METHOD:PUBLISH
X-PUBLISHED-TTL:P1H
REFRESH-INTERVAL:P1H
CALSCALE:GREGORIAN
BEGIN:VTIMEZONE
TZID:America/New_York
BEGIN:DAYLIGHT
RRULE:FREQ=YEARLY;BYMONTH=3;BYDAY=2SU
DTSTART:20070101T000000
TZOFFSETFROM:-0500
TZOFFSETTO:-0400
TZNAME:Eastern Daylight Time
END:DAYLIGHT
BEGIN:STANDARD
RRULE:FREQ=YEARLY;BYMONTH=11;BYDAY=1SU
DTSTART:20070101T000000
TZOFFSETFROM:-0400
TZOFFSETTO:-0500
TZNAME:Eastern Standard Time
END:STANDARD
END:VTIMEZONE
BEGIN:VEVENT
DTSTART;TZID=America/New_York:20260414T130000
DTEND;TZID=America/New_York:20260414T170000
X-MICROSOFT-CDO-ALLDAYEVENT:FALSE
SUMMARY:CE Elective - Risk Management for BICs CEE 4375
DESCRIPTION:This is a new elective course that also fulfills the LLR required Broker-in-Charge 4-hour course requirement. This course covers the following basic risk-management topics: What the SC Code of Laws 40-57 requires of the broker-in-charge How to create a compliant office policy -How to determining which facts regarding property are material and required to be disclosed Creating a document retention system Disclosing brokerage relationship options and use of mandatory forms Provision of compliant forms to associated licensees Adherence to fair housing laws.Instructor: Carol SimpsonCourse #: 4375ATTENDANCE POLICY: Any registrant arriving more than 10 minutes after the seminar begins will not be issued a certificate of completion. Any registrant who does not stay for the entire seminar or who takes excessive breaks will not be issued a certificate of completion. CANCELLATIONS\, TRANSFERS & REFUNDS: Deadline to cancel or transfer registrations is two working days prior to the event. After deadline\, no refunds will be given. COURSE CANCELLATION: GGAR reserves the right to cancel a course if there is not a minimum number of students. If an emergency warrants the rescheduling of a course\, all possible care will be taken to advise you as soon as possible and monies will be refunded to registrants. Our courses are offered to anyone regardless of race\, color\, religion\, sex\, national origin\, familial status\, or handicap. If you need special accommodations\, please notify us at enrollment.
X-ALT-DESC;FMTTYPE=text/html:<!DOCTYPE html><html><head><title></title></head><body aria-disabled="false"><p>This is a new elective course that also fulfills the LLR required Broker-in-Charge 4-hour course requirement.&nbsp\;</p><p>This course covers the following basic risk-management topics:&nbsp\;</p><ul fr-original-style="" style="list-style-position: inside\;"><li>What the SC Code of Laws 40-57 requires of the broker-in-charge&nbsp\;</li><li>How to create a compliant office policy -How to determining which facts regarding property are material and required to be disclosed&nbsp\;</li><li>Creating a document retention system&nbsp\;</li><li>Disclosing brokerage relationship options and use of mandatory forms&nbsp\;</li><li>Provision of compliant forms to associated licensees&nbsp\;</li><li>Adherence to fair housing laws.</li></ul><p>Instructor: Carol Simpson</p><p>Course #: 4375</p><p><span style="font-size: 10px\;">ATTENDANCE POLICY: Any registrant arriving more than 10 minutes after the seminar begins will not be issued a certificate of completion. Any registrant who does not stay for the entire seminar or who takes excessive breaks will not be issued a certificate of completion. CANCELLATIONS\, TRANSFERS &amp\; REFUNDS: Deadline to cancel or transfer registrations is two working days prior to the event. After deadline\, no refunds will be given. COURSE CANCELLATION: GGAR reserves the right to cancel a course if there is not a minimum number of students. If an emergency warrants the rescheduling of a course\, all possible care will be taken to advise you as soon as possible and monies will be refunded to registrants. Our courses are offered to anyone regardless of race\, color\, religion\, sex\, national origin\, familial status\, or handicap. If you need special accommodations\, please notify us at enrollment.</span></p></body></html>
LOCATION:50 Airpark Court Greenville 29607
UID:e.3170.1409963
SEQUENCE:3
DTSTAMP:20260422T003338Z
URL:https://members.ggar.com/association-events/Details/ce-elective-risk-management-for-bics-cee-4375-1666198?sourceTypeId=Hub
END:VEVENT
END:VCALENDAR
