BEGIN:VCALENDAR
VERSION:2.0
PRODID:-//ChamberMaster//Event Calendar 2.0//EN
METHOD:PUBLISH
X-PUBLISHED-TTL:P1H
REFRESH-INTERVAL:P1H
CALSCALE:GREGORIAN
BEGIN:VTIMEZONE
TZID:America/New_York
BEGIN:DAYLIGHT
RRULE:FREQ=YEARLY;BYMONTH=3;BYDAY=2SU
DTSTART:20070101T000000
TZOFFSETFROM:-0500
TZOFFSETTO:-0400
TZNAME:Eastern Daylight Time
END:DAYLIGHT
BEGIN:STANDARD
RRULE:FREQ=YEARLY;BYMONTH=11;BYDAY=1SU
DTSTART:20070101T000000
TZOFFSETFROM:-0400
TZOFFSETTO:-0500
TZNAME:Eastern Standard Time
END:STANDARD
END:VTIMEZONE
BEGIN:VEVENT
DTSTART;TZID=America/New_York:20260415T090000
DTEND;TZID=America/New_York:20260415T110000
X-MICROSOFT-CDO-ALLDAYEVENT:FALSE
SUMMARY:CE - Elective - Enhancing Customer Service through Tax Records - CEE 3050
DESCRIPTION:2-hour CE ClassDescriptionSummary of learning objectives and course outline1. How to search tax records2. Understand how the county assessor recorded properties3. Property report   Understanding sales history\, mortgage\, taxes\, and property characteristics4. Benefits of using GIS maps and layers5. Competitive Market Analysis (CMA)   How to use tax records to conduct a competitive market analysis6. Prospecting - MarketingInstructor: Danielle LongdueCourse #:CEE 3050$25 GGAR Members$35 Non-GGAR MembersATTENDANCE POLICY:  Any registrant arriving more than 10 minutes after the seminar begins will not be issued a certificate of completion. Any registrant who does not stay for the entire seminar or who takes excessive breaks will not be issued a certificate of completion.   CANCELLATIONS\, TRANSFERS & REFUNDS:  Deadline to cancel or transfer registrations is 48 hours prior to the event. After deadline\, no refunds will be given.     COURSE CANCELLATION:  GGAR reserves the right to cancel a course if there is not a minimum number of students. If an emergency warrants the rescheduling of a course\, all possible care will be taken to advise you as soon as possible and monies will be refunded to registrants. Our courses are offered to anyone regardless of race\, color\, religion\, sex\, national origin\, familial status\, or handicap. If you need special accommodations\, please notify us at enrollment.
X-ALT-DESC;FMTTYPE=text/html:<!DOCTYPE html><html><head><title></title></head><body aria-disabled="false"><p>2-hour CE Class</p><p><strong fr-original-style="" style="font-weight: 700\;">Description</strong></p><p>Summary of learning objectives and course outline</p><p>1. How to search tax records</p><p>2. Understand how the county assessor recorded properties</p><p>3. Property report &ndash\; Understanding sales history\, mortgage\, taxes\, and property characteristics</p><p>4. Benefits of using GIS maps and layers</p><p>5. Competitive Market Analysis (CMA) &ndash\; How to use tax records to conduct a competitive market analysis</p><p>6. Prospecting - Marketing</p><p><span style="font-size: 14px\;"><span style="color: rgb(0\, 0\, 0)\;"><span style="font-family: Roboto\, sans-serif\; font-style: normal\; font-variant-ligatures: normal\; font-variant-caps: normal\; font-weight: 400\; letter-spacing: 0.5px\; orphans: 2\; text-align: start\; text-indent: 0px\; text-transform: none\; white-space: normal\; widows: 2\; word-spacing: 0px\; -webkit-text-stroke-width: 0px\; background-color: rgb(255\, 255\, 255)\; text-decoration-thickness: initial\; text-decoration-style: initial\; text-decoration-color: initial\; float: none\; display: inline !important\;">Instructor: Danielle Longdue</span></span></span></p><p><span style="font-size: 14px\;"><span style="color: rgb(0\, 0\, 0)\;"><span style="font-family: Roboto\, sans-serif\; font-style: normal\; font-variant-ligatures: normal\; font-variant-caps: normal\; font-weight: 400\; letter-spacing: 0.5px\; orphans: 2\; text-align: start\; text-indent: 0px\; text-transform: none\; white-space: normal\; widows: 2\; word-spacing: 0px\; -webkit-text-stroke-width: 0px\; background-color: rgb(255\, 255\, 255)\; text-decoration-thickness: initial\; text-decoration-style: initial\; text-decoration-color: initial\; float: none\; display: inline !important\;">Course #:CEE 3050</span></span></span></p><p><span style="font-size: 14px\;"><span style="color: rgb(0\, 0\, 0)\;"><span style="font-family: Roboto\, sans-serif\; font-style: normal\; font-variant-ligatures: normal\; font-variant-caps: normal\; font-weight: 400\; letter-spacing: 0.5px\; orphans: 2\; text-align: start\; text-indent: 0px\; text-transform: none\; white-space: normal\; widows: 2\; word-spacing: 0px\; -webkit-text-stroke-width: 0px\; background-color: rgb(255\, 255\, 255)\; text-decoration-thickness: initial\; text-decoration-style: initial\; text-decoration-color: initial\; float: none\; display: inline !important\;">$25 GGAR Members</span></span></span></p><p><span style="font-size: 14px\;"><span style="color: rgb(0\, 0\, 0)\;"><span style="font-family: Roboto\, sans-serif\; font-style: normal\; font-variant-ligatures: normal\; font-variant-caps: normal\; font-weight: 400\; letter-spacing: 0.5px\; orphans: 2\; text-align: start\; text-indent: 0px\; text-transform: none\; white-space: normal\; widows: 2\; word-spacing: 0px\; -webkit-text-stroke-width: 0px\; background-color: rgb(255\, 255\, 255)\; text-decoration-thickness: initial\; text-decoration-style: initial\; text-decoration-color: initial\; float: none\; display: inline !important\;">$35 Non-GGAR Members</span></span></span></p><p><span style="color: rgb(0\, 0\, 0)\; font-family: Roboto\, sans-serif\; font-size: 11px\; font-style: normal\; font-variant-ligatures: normal\; font-variant-caps: normal\; font-weight: 400\; letter-spacing: 0.5px\; orphans: 2\; text-align: start\; text-indent: 0px\; text-transform: none\; widows: 2\; word-spacing: 0px\; -webkit-text-stroke-width: 0px\; white-space: normal\; background-color: rgb(255\, 255\, 255)\; text-decoration-thickness: initial\; text-decoration-style: initial\; text-decoration-color: initial\; float: none\; display: inline !important\;">ATTENDANCE POLICY: &nbsp\;Any registrant arriving more than 10 minutes after the seminar begins will not be issued a certificate of completion. Any registrant who does not stay for the entire seminar or who takes excessive breaks will not be issued a certificate of completion. &nbsp\; CANCELLATIONS\, TRANSFERS &amp\; REFUNDS: &nbsp\;Deadline to cancel or transfer registrations is 48 hours prior to the event. After deadline\, no refunds will be given. &nbsp\; &nbsp\; COURSE CANCELLATION: &nbsp\;GGAR reserves the right to cancel a course if there is not a minimum number of students. If an emergency warrants the rescheduling of a course\, all possible care will be taken to advise you as soon as possible and monies will be refunded to registrants. Our courses are offered to anyone regardless of race\, color\, religion\, sex\, national origin\, familial status\, or handicap. If you need special accommodations\, please notify us at enrollment. &nbsp\;</span></p></body></html>
LOCATION:50 Airpark Court Greenville SC 29607
UID:e.3170.1419023
SEQUENCE:3
DTSTAMP:20260422T003327Z
URL:https://members.ggar.com/association-events/Details/ce-elective-enhancing-customer-service-through-tax-records-cee-3050-1677224?sourceTypeId=Hub
END:VEVENT
END:VCALENDAR
