BEGIN:VCALENDAR
VERSION:2.0
PRODID:-//ChamberMaster//Event Calendar 2.0//EN
METHOD:PUBLISH
X-PUBLISHED-TTL:P1H
REFRESH-INTERVAL:P1H
CALSCALE:GREGORIAN
BEGIN:VTIMEZONE
TZID:America/New_York
BEGIN:DAYLIGHT
RRULE:FREQ=YEARLY;BYMONTH=3;BYDAY=2SU
DTSTART:20070101T000000
TZOFFSETFROM:-0500
TZOFFSETTO:-0400
TZNAME:Eastern Daylight Time
END:DAYLIGHT
BEGIN:STANDARD
RRULE:FREQ=YEARLY;BYMONTH=11;BYDAY=1SU
DTSTART:20070101T000000
TZOFFSETFROM:-0400
TZOFFSETTO:-0500
TZNAME:Eastern Standard Time
END:STANDARD
END:VTIMEZONE
BEGIN:VEVENT
DTSTART;TZID=America/New_York:20260409T120000
DTEND;TZID=America/New_York:20260409T133000
X-MICROSOFT-CDO-ALLDAYEVENT:FALSE
SUMMARY:GGAR Membership Luncheon - FULL
DESCRIPTION:This luncheon is offered at no charge to primary GGAR Association members. Limited seating\, so please register online. This event is sponsored by the South Carolina Association of REALTORS. Guest Speaker:  Byron King\, Chief Legal Officer\, from SC REALTORS.
X-ALT-DESC;FMTTYPE=text/html:<!DOCTYPE html><html><head><title></title></head><body aria-disabled="false"><p>This luncheon is offered at no charge to primary GGAR Association members. Limited seating\, so please register online. This event is sponsored by the South Carolina Association of REALTORS. Guest Speaker: &nbsp\;Byron King\, Chief Legal Officer\, from SC REALTORS.</p><p><br></p></body></html>
LOCATION:120 Halston Avenue Greenville SC 29615
UID:e.3170.1418987
SEQUENCE:3
DTSTAMP:20260421T221546Z
URL:https://members.ggar.com/association-events/Details/ggar-membership-luncheon-full-1677164?sourceTypeId=Hub
END:VEVENT
END:VCALENDAR
